BEGIN:VCALENDAR
VERSION:2.0
PRODID:-//Bürgerverein Vohwinkel - ECPv6.10.3//NONSGML v1.0//EN
CALSCALE:GREGORIAN
METHOD:PUBLISH
X-WR-CALNAME:Bürgerverein Vohwinkel
X-ORIGINAL-URL:https://buergerverein-vohwinkel.de
X-WR-CALDESC:Veranstaltungen für Bürgerverein Vohwinkel
REFRESH-INTERVAL;VALUE=DURATION:PT1H
X-Robots-Tag:noindex
X-PUBLISHED-TTL:PT1H
BEGIN:VTIMEZONE
TZID:UTC
BEGIN:STANDARD
TZOFFSETFROM:+0000
TZOFFSETTO:+0000
TZNAME:UTC
DTSTART:20220101T000000
END:STANDARD
END:VTIMEZONE
BEGIN:VEVENT
DTSTART;TZID=UTC:20221113T121500
DTEND;TZID=UTC:20221113T161500
DTSTAMP:20260424T224841
CREATED:20191208T091309Z
LAST-MODIFIED:20221027T152557Z
UID:1061-1668341700-1668356100@buergerverein-vohwinkel.de
SUMMARY:Wanderung – Volkstrauertag
DESCRIPTION:Mit offenen Augen durch die Welt: Bei unseren Wanderungen entdecken wir die Umgebung von Wuppertal immer wieder neu. Schließen Sie sich uns an und entdecken sie die schönsten Ecken der Gegend! \nDieses Mal führt uns unsere Wanderung zum Ehrenhain im Zuge des Volkstrauertages\, anschließend kehren wir zur Stärkung in ein Restaurant ein. \nTreffpunkt: Vohwinkel Bahnhof \nTipp: Eine Übersicht all unserer Wandertouren finden Sie auf unserer Wanderungen-Seite.
URL:https://buergerverein-vohwinkel.de/veranstaltungen/wanderung_09-22
LOCATION:Treffpunkt: Bahnhof „Wuppertal-Vohwinkel“
CATEGORIES:Wanderung
END:VEVENT
END:VCALENDAR