BEGIN:VCALENDAR
VERSION:2.0
PRODID:-//Bürgerverein Vohwinkel - ECPv6.10.3//NONSGML v1.0//EN
CALSCALE:GREGORIAN
METHOD:PUBLISH
X-WR-CALNAME:Bürgerverein Vohwinkel
X-ORIGINAL-URL:https://buergerverein-vohwinkel.de
X-WR-CALDESC:Veranstaltungen für Bürgerverein Vohwinkel
REFRESH-INTERVAL;VALUE=DURATION:PT1H
X-Robots-Tag:noindex
X-PUBLISHED-TTL:PT1H
BEGIN:VTIMEZONE
TZID:UTC
BEGIN:STANDARD
TZOFFSETFROM:+0000
TZOFFSETTO:+0000
TZNAME:UTC
DTSTART:20230101T000000
END:STANDARD
END:VTIMEZONE
BEGIN:VEVENT
DTSTART;TZID=UTC:20230723T093000
DTEND;TZID=UTC:20230723T153000
DTSTAMP:20260422T100721
CREATED:20221223T095404Z
LAST-MODIFIED:20230710T093312Z
UID:1451-1690104600-1690126200@buergerverein-vohwinkel.de
SUMMARY:Wanderung – Unterburg
DESCRIPTION:Mit offenen Augen durch die Welt: Bei unseren Wanderungen entdecken wir die Umgebung von Wuppertal immer wieder neu. Schließen Sie sich uns an und entdecken sie die schönsten Ecken der Gegend! \nDieses Mal führt uns unsere Wanderung nach Solingen-Unterburg\, anschließend kehren wir zur Stärkung in ein Restaurant ein. \nTreffpunkt: Vohwinkel Schwebebahn \nTipp: Eine Übersicht all unserer Wandertouren finden Sie auf unserer Wanderungen-Seite.
URL:https://buergerverein-vohwinkel.de/veranstaltungen/wanderung-05-23
LOCATION:Treffpunkt: Haltestelle „Vohwinkel Schwebebahn“
CATEGORIES:Wanderung
END:VEVENT
END:VCALENDAR