BEGIN:VCALENDAR
VERSION:2.0
PRODID:-//Bürgerverein Vohwinkel - ECPv6.10.3//NONSGML v1.0//EN
CALSCALE:GREGORIAN
METHOD:PUBLISH
X-WR-CALNAME:Bürgerverein Vohwinkel
X-ORIGINAL-URL:https://buergerverein-vohwinkel.de
X-WR-CALDESC:Veranstaltungen für Bürgerverein Vohwinkel
REFRESH-INTERVAL;VALUE=DURATION:PT1H
X-Robots-Tag:noindex
X-PUBLISHED-TTL:PT1H
BEGIN:VTIMEZONE
TZID:UTC
BEGIN:STANDARD
TZOFFSETFROM:+0000
TZOFFSETTO:+0000
TZNAME:UTC
DTSTART:20230101T000000
END:STANDARD
END:VTIMEZONE
BEGIN:VEVENT
DTSTART;TZID=UTC:20230521T101500
DTEND;TZID=UTC:20230521T151500
DTSTAMP:20260424T124653
CREATED:20221223T095106Z
LAST-MODIFIED:20230518T085133Z
UID:1447-1684664100-1684682100@buergerverein-vohwinkel.de
SUMMARY:Wanderung – Kuhlendahl
DESCRIPTION:Mit offenen Augen durch die Welt: Bei unseren Wanderungen entdecken wir die Umgebung von Wuppertal immer wieder neu. Schließen Sie sich uns an und entdecken sie die schönsten Ecken der Gegend! \nDieses Mal führt uns unsere Wanderung von Velbert Rosenhügel nach Kuhlendahl\, anschließend kehren wir zum Spargel-Essen in das Restaurant „Gut Kuhlendahl“ ein. \nTreffpunkt: Vohwinkel Schwebebahn \nTipp: Eine Übersicht all unserer Wandertouren finden Sie auf unserer Wanderungen-Seite.
URL:https://buergerverein-vohwinkel.de/veranstaltungen/wanderung-03-23
LOCATION:Treffpunkt: Bahnhof „Wuppertal-Vohwinkel“
CATEGORIES:Wanderung
END:VEVENT
END:VCALENDAR