BEGIN:VCALENDAR
VERSION:2.0
PRODID:-//Bürgerverein Vohwinkel - ECPv6.10.3//NONSGML v1.0//EN
CALSCALE:GREGORIAN
METHOD:PUBLISH
X-WR-CALNAME:Bürgerverein Vohwinkel
X-ORIGINAL-URL:https://buergerverein-vohwinkel.de
X-WR-CALDESC:Veranstaltungen für Bürgerverein Vohwinkel
REFRESH-INTERVAL;VALUE=DURATION:PT1H
X-Robots-Tag:noindex
X-PUBLISHED-TTL:PT1H
BEGIN:VTIMEZONE
TZID:UTC
BEGIN:STANDARD
TZOFFSETFROM:+0000
TZOFFSETTO:+0000
TZNAME:UTC
DTSTART:20230101T000000
END:STANDARD
END:VTIMEZONE
BEGIN:VEVENT
DTSTART;TZID=UTC:20230504T083000
DTEND;TZID=UTC:20230504T183000
DTSTAMP:20260424T125244
CREATED:20230402T172903Z
LAST-MODIFIED:20260219T170729Z
UID:1554-1683189000-1683225000@buergerverein-vohwinkel.de
SUMMARY:Tagestour –  Haus der Geschichte und City-Tour Bonn
DESCRIPTION:Die Dauerausstellung und wechselnde Sonderausstellungen im Haus der Geschichte in Bonn zeigen die Geschichte der Bundesrepublik Deutschland ab 1945. \nNach der Führung durchs Museum und einer möglichen Erfrischungspause\, machen wir eine ca. zweistündige Stadtrundfahrt im Doppeldeckerbus. \nHinweis: Ausgebucht!! \nKosten: Mit eigenem Ticket 20€\, ohne Ticket 32€ \nTreffpunkt: Vohwinkel Bahnhof
URL:https://buergerverein-vohwinkel.de/veranstaltungen/tagestour-haus-der-geschichte-und-city-tour-bonn
LOCATION:Haus der Geschichte
CATEGORIES:Ausflug
END:VEVENT
END:VCALENDAR