BEGIN:VCALENDAR
VERSION:2.0
PRODID:-//Bürgerverein Vohwinkel - ECPv6.10.3//NONSGML v1.0//EN
CALSCALE:GREGORIAN
METHOD:PUBLISH
X-WR-CALNAME:Bürgerverein Vohwinkel
X-ORIGINAL-URL:https://buergerverein-vohwinkel.de
X-WR-CALDESC:Veranstaltungen für Bürgerverein Vohwinkel
REFRESH-INTERVAL;VALUE=DURATION:PT1H
X-Robots-Tag:noindex
X-PUBLISHED-TTL:PT1H
BEGIN:VTIMEZONE
TZID:UTC
BEGIN:STANDARD
TZOFFSETFROM:+0000
TZOFFSETTO:+0000
TZNAME:UTC
DTSTART:20240101T000000
END:STANDARD
END:VTIMEZONE
BEGIN:VEVENT
DTSTART;TZID=UTC:20240523T090000
DTEND;TZID=UTC:20240523T190000
DTSTAMP:20260424T134705
CREATED:20231230T131323Z
LAST-MODIFIED:20240113T190554Z
UID:1769-1716454800-1716490800@buergerverein-vohwinkel.de
SUMMARY:Tagestour – Gasometer Oberhausen
DESCRIPTION:Die neue Ausstellung „Planet Ozean“ zeigt die faszinierende Schönheit der Weltmeere und ihrer vielfältigen Lebensformen. Dafür führt die innovative Schau in kaum bekannte Tiefen dieses komplexen Ökosystems. \nKosten: 12 € pro Person \nAnmeldefrist: 18.05.2024 \nAnmeldung: Bei Kurt-Reiner Schmidt\, danach Überweisung des Eintrittspreises (Verwendungszweck „R5“). \nTreffpunkt: Bahnhof Vohwinkel \nHinweis: Eigenes Nahverkehrsticket wird benötigt
URL:https://buergerverein-vohwinkel.de/veranstaltungen/tagestour-gasometer-oberhausen
LOCATION:Treffpunkt: Bahnhof „Wuppertal-Vohwinkel“
CATEGORIES:Ausflug
END:VEVENT
END:VCALENDAR