BEGIN:VCALENDAR
VERSION:2.0
PRODID:-//Bürgerverein Vohwinkel - ECPv6.10.3//NONSGML v1.0//EN
CALSCALE:GREGORIAN
METHOD:PUBLISH
X-WR-CALNAME:Bürgerverein Vohwinkel
X-ORIGINAL-URL:https://buergerverein-vohwinkel.de
X-WR-CALDESC:Veranstaltungen für Bürgerverein Vohwinkel
REFRESH-INTERVAL;VALUE=DURATION:PT1H
X-Robots-Tag:noindex
X-PUBLISHED-TTL:PT1H
BEGIN:VTIMEZONE
TZID:UTC
BEGIN:STANDARD
TZOFFSETFROM:+0000
TZOFFSETTO:+0000
TZNAME:UTC
DTSTART:20230101T000000
END:STANDARD
END:VTIMEZONE
BEGIN:VEVENT
DTSTART;TZID=UTC:20231026T150000
DTEND;TZID=UTC:20231026T200000
DTSTAMP:20260422T084129
CREATED:20230827T063803Z
LAST-MODIFIED:20230827T063803Z
UID:1615-1698332400-1698350400@buergerverein-vohwinkel.de
SUMMARY:Tagestour – Besuch der neuen Synagoge
DESCRIPTION:Die Grundsteinlegung im Oktober 2001 war der Baubeginn der neuen Synagoge mit Standort in Barmen\, welche insgesamt 300 Personen Platz bietet und im Dezember 2022 offiziell eingeweiht wurde. Entdecken Sie bei einer Führung mit uns die „Bergische Synagoge“ und genießen anschließend israelische Spezialitäten im Cafe Negev. \nKosten: 15 Euro \nTreffpunkt: Vohwinkel Schwebebahn (15:00 Uhr) oder 15:50 Uhr vor der Synagoge \nAnmeldeschluss: 16.10.2023 (Anmeldeinfos hier)
URL:https://buergerverein-vohwinkel.de/veranstaltungen/tagestour-besuch-der-neuen-synagoge
LOCATION:Neue Synagoge\, Gemarker Straße 15\, Wuppertal\, 42275
CATEGORIES:Ausflug
END:VEVENT
END:VCALENDAR