BEGIN:VCALENDAR
VERSION:2.0
PRODID:-//Bürgerverein Vohwinkel - ECPv6.10.3//NONSGML v1.0//EN
CALSCALE:GREGORIAN
METHOD:PUBLISH
X-WR-CALNAME:Bürgerverein Vohwinkel
X-ORIGINAL-URL:https://buergerverein-vohwinkel.de
X-WR-CALDESC:Veranstaltungen für Bürgerverein Vohwinkel
REFRESH-INTERVAL;VALUE=DURATION:PT1H
X-Robots-Tag:noindex
X-PUBLISHED-TTL:PT1H
BEGIN:VTIMEZONE
TZID:UTC
BEGIN:STANDARD
TZOFFSETFROM:+0000
TZOFFSETTO:+0000
TZNAME:UTC
DTSTART:20230101T000000
END:STANDARD
END:VTIMEZONE
BEGIN:VEVENT
DTSTART;TZID=UTC:20231207T084500
DTEND;TZID=UTC:20231207T200000
DTSTAMP:20260420T162241
CREATED:20230422T054530Z
LAST-MODIFIED:20231205T124930Z
UID:1564-1701938700-1701979200@buergerverein-vohwinkel.de
SUMMARY:Tagestour – Advent im Münsterland
DESCRIPTION:Fahrt zu einer besinnlichen Weihnachtsfeier im Clemens-August in Davensberg. Tagespunkte sind ein gemeinsames Mittagessen\, Zeit zum Einkaufen besonderer Dinge vor Ort und Nachmittagskaffee mit Torte. Um 16 Uhr gibt es eine Weihnachtsfeier mit Nikolausbescherung. \nHinweis: Anmeldung erfolgt per Überweisung einer Anzahlung von 15 Euro (Verwendungszweck „R 12-23“). Anmeldeschluss ist der 31.10.2023 \nKosten: 75 Euro \nTreffpunkt: Reisebushaltestelle W-Vohwinkel (Schwebebahnendhaltestelle) um 8:45 Uhr
URL:https://buergerverein-vohwinkel.de/veranstaltungen/tagestour-advent-im-muensterland
LOCATION:Davensberg
CATEGORIES:Ausflug
END:VEVENT
END:VCALENDAR