BEGIN:VCALENDAR
VERSION:2.0
PRODID:-//Bürgerverein Vohwinkel - ECPv6.10.3//NONSGML v1.0//EN
CALSCALE:GREGORIAN
METHOD:PUBLISH
X-WR-CALNAME:Bürgerverein Vohwinkel
X-ORIGINAL-URL:https://buergerverein-vohwinkel.de
X-WR-CALDESC:Veranstaltungen für Bürgerverein Vohwinkel
REFRESH-INTERVAL;VALUE=DURATION:PT1H
X-Robots-Tag:noindex
X-PUBLISHED-TTL:PT1H
BEGIN:VTIMEZONE
TZID:UTC
BEGIN:STANDARD
TZOFFSETFROM:+0000
TZOFFSETTO:+0000
TZNAME:UTC
DTSTART:20250101T000000
END:STANDARD
END:VTIMEZONE
BEGIN:VEVENT
DTSTART;TZID=UTC:20251206T150000
DTEND;TZID=UTC:20251206T173000
DTSTAMP:20260423T094619
CREATED:20250227T100011Z
LAST-MODIFIED:20251020T133438Z
UID:2000-1765033200-1765042200@buergerverein-vohwinkel.de
SUMMARY:Nikolausfeier
DESCRIPTION:Wir laden Sie wieder herzlichst zu unserer schon zur Tradition gewordenen diesjährigen Nikolausfeier und einem fröhlichen Miteinander ein. \nBitte beachten: Diese Veranstaltung ist nur für Mitglieder! \nEinlass: Ab 14:30 Uhr \nKosten: Kostenlos
URL:https://buergerverein-vohwinkel.de/veranstaltungen/nikolausfeier-2025
LOCATION:Privat: Ev. Gemeindezentrum Gräfrather Straße\, Gräfrather Str. 15\, Wuppertal\, 42329
CATEGORIES:Besondere Veranstaltungen
END:VEVENT
BEGIN:VEVENT
DTSTART;TZID=UTC:20251214T130000
DTEND;TZID=UTC:20251214T200000
DTSTAMP:20260423T094619
CREATED:20251119T101554Z
LAST-MODIFIED:20251119T101554Z
UID:2198-1765717200-1765742400@buergerverein-vohwinkel.de
SUMMARY:Tagestour – Weihnachtsmarkt Schloss Benrath
DESCRIPTION:Dieses Mal führt uns eine „spezielle“ Wanderung des Wanderteams auf den Weihnachtsmarkt an Schloss Benrath. Hier können leckere Speisen und Getränke sowie Kunsthandwerk entdeckt werden. \nTreffpunkt: Bahnhof Vohwinkel \nHinweis: Eigenes Nahverkehrsticket wird benötigt
URL:https://buergerverein-vohwinkel.de/veranstaltungen/tagestour-weihnachtsmarkt-schloss-benrath
LOCATION:Treffpunkt: Bahnhof „Wuppertal-Vohwinkel“
CATEGORIES:Ausflug
END:VEVENT
BEGIN:VEVENT
DTSTART;TZID=UTC:20251216T091000
DTEND;TZID=UTC:20251216T190000
DTSTAMP:20260423T094619
CREATED:20250515T071340Z
LAST-MODIFIED:20250515T071340Z
UID:2013-1765876200-1765911600@buergerverein-vohwinkel.de
SUMMARY:Tagestour – Advent im Münsterland
DESCRIPTION:Fahrt zu einer besinnlichen Weihnachtsfeier im Clemens-August in Davensberg. Tagespunkte sind ein gemeinsames Mittagessen\, Zeit zum Einkaufen besonderer Dinge vor Ort sowie Nachmittagskaffee mit Torte. Um 16 Uhr gibt es eine Weihnachtsfeier mit Nikolausbescherung. \nKosten: 87€ pro Person \nAnmeldefrist: Die Teilnahme ist auf 20 Personen beschränkt\, also bald anmelden! \nAnmeldung: Bei Kurt-Reiner Schmidt\, danach Überweisung des Eintrittspreises (Verwendungszweck „R12“). \nTreffpunkt: Reisebushaltestelle Vohwinkel (An der Endhaltestelle der Schwebebahn)
URL:https://buergerverein-vohwinkel.de/veranstaltungen/tagestour-advent-im-muensterland-2025
LOCATION:Treffpunkt: Reisebus-Haltestelle „Vohwinkel“
CATEGORIES:Ausflug
END:VEVENT
BEGIN:VEVENT
DTSTART;TZID=UTC:20251218T180000
DTEND;TZID=UTC:20251218T210000
DTSTAMP:20260423T094619
CREATED:20250227T095906Z
LAST-MODIFIED:20250227T095906Z
UID:1998-1766080800-1766091600@buergerverein-vohwinkel.de
SUMMARY:Laberabend
DESCRIPTION:Bei unseren gemütlichen Laberabenden treffen Mitglieder und Nicht-Mitglieder im ruhigen Rahmen. Hier ist Zeit zum Genießen\, Plaudern und Kennenlernen.
URL:https://buergerverein-vohwinkel.de/veranstaltungen/laberabend-12-25
LOCATION:Restaurant „Poseidon“\, Gustavstraße 7\, Wuppertal\, 42329\, Deutschland
CATEGORIES:Laberabend
END:VEVENT
END:VCALENDAR