BEGIN:VCALENDAR
VERSION:2.0
PRODID:-//Bürgerverein Vohwinkel - ECPv6.10.3//NONSGML v1.0//EN
CALSCALE:GREGORIAN
METHOD:PUBLISH
X-WR-CALNAME:Bürgerverein Vohwinkel
X-ORIGINAL-URL:https://buergerverein-vohwinkel.de
X-WR-CALDESC:Veranstaltungen für Bürgerverein Vohwinkel
REFRESH-INTERVAL;VALUE=DURATION:PT1H
X-Robots-Tag:noindex
X-PUBLISHED-TTL:PT1H
BEGIN:VTIMEZONE
TZID:Europe/Paris
BEGIN:DAYLIGHT
TZOFFSETFROM:+0100
TZOFFSETTO:+0200
TZNAME:CEST
DTSTART:20250330T010000
END:DAYLIGHT
BEGIN:STANDARD
TZOFFSETFROM:+0200
TZOFFSETTO:+0100
TZNAME:CET
DTSTART:20251026T010000
END:STANDARD
END:VTIMEZONE
BEGIN:VTIMEZONE
TZID:UTC
BEGIN:STANDARD
TZOFFSETFROM:+0000
TZOFFSETTO:+0000
TZNAME:UTC
DTSTART:20250101T000000
END:STANDARD
END:VTIMEZONE
BEGIN:VEVENT
DTSTART;TZID=Europe/Paris:20251009T180000
DTEND;TZID=Europe/Paris:20251009T210000
DTSTAMP:20260423T124515
CREATED:20250227T095656Z
LAST-MODIFIED:20250918T160807Z
UID:1992-1760032800-1760043600@buergerverein-vohwinkel.de
SUMMARY:Jahreshauptversammlung
DESCRIPTION:Bei der Jahreshauptversammlung geht es um wichtige Belange des Vereins. \nHinweis: Einlass ist ab 17:30 Uhr\, keine Gäste zugelassen\, nur für Mitglieder.
URL:https://buergerverein-vohwinkel.de/veranstaltungen/jahreshauptversammlung-2025
LOCATION:Privat: Ev. Gemeindezentrum Gräfrather Straße\, Gräfrather Str. 15\, Wuppertal\, 42329
CATEGORIES:Besondere Veranstaltungen
END:VEVENT
BEGIN:VEVENT
DTSTART;TZID=UTC:20251019T090000
DTEND;TZID=UTC:20251019T153000
DTSTAMP:20260423T124515
CREATED:20241023T143128Z
LAST-MODIFIED:20241023T143128Z
UID:1938-1760864400-1760887800@buergerverein-vohwinkel.de
SUMMARY:Wanderung – Solinger Dorfschaften
DESCRIPTION:Mit offenen Augen durch die Welt: Bei unseren Wanderungen entdecken wir die Umgebung von Wuppertal immer wieder neu. Schließen Sie sich uns an und entdecken sie die schönsten Ecken der Gegend! \nDieses Mal führt uns unsere Wanderung von Haasenmühle in Solingen nach Rüden in Solingen\, anschließend kehren wir zur Stärkung in das Restaurant „Haus Rüden“ ein. \nTreffpunkt: Vohwinkel Bahnhof
URL:https://buergerverein-vohwinkel.de/veranstaltungen/wanderung-solinger-dorfschaften
LOCATION:Treffpunkt: Bahnhof „Wuppertal-Vohwinkel“
CATEGORIES:Wanderung
END:VEVENT
BEGIN:VEVENT
DTSTART;TZID=UTC:20251023T180000
DTEND;TZID=UTC:20251023T210000
DTSTAMP:20260423T124515
CREATED:20250227T095823Z
LAST-MODIFIED:20250227T095823Z
UID:1994-1761242400-1761253200@buergerverein-vohwinkel.de
SUMMARY:Laberabend
DESCRIPTION:Bei unseren gemütlichen Laberabenden treffen Mitglieder und Nicht-Mitglieder im ruhigen Rahmen. Hier ist Zeit zum Genießen\, Plaudern und Kennenlernen.
URL:https://buergerverein-vohwinkel.de/veranstaltungen/laberabend-10-25
LOCATION:Restaurant „Poseidon“\, Gustavstraße 7\, Wuppertal\, 42329\, Deutschland
CATEGORIES:Laberabend
END:VEVENT
END:VCALENDAR